View In:
ArcGIS JavaScript
ArcGIS Online Map Viewer
ArcGIS Earth
Service Description: hapsal/Hapsal_1866
Name: hapsal/Hapsal_1866
Description:
Single Fused Map Cache: false
Extent:
XMin: 471655.95725008834
YMin: 6533373.787526473
XMax: 474244.033352785
YMax: 6536435.879526533
Spatial Reference: 3301
(3301)
Initial Extent:
XMin: 471655.95725008834
YMin: 6533373.787526473
XMax: 474244.033352785
YMax: 6536435.879526533
Spatial Reference: 3301
(3301)
Full Extent:
XMin: 471655.95725008834
YMin: 6533373.787526473
XMax: 474244.033352785
YMax: 6536435.879526533
Spatial Reference: 3301
(3301)
Pixel Size X: 0.17703509834439088
Pixel Size Y: 0.1770404717888404
Band Count: 3
Pixel Type: U8
RasterFunction Infos: {"rasterFunctionInfos": [{
"name": "None",
"description": "",
"help": ""
}]}
Mensuration Capabilities: Basic
Has Histograms: true
Has Colormap: false
Has Multi Dimensions : false
Rendering Rule:
Min Scale: 0
Max Scale: 0
Copyright Text:
Service Data Type: esriImageServiceDataTypeRGB
Min Values: 12, 12, 0
Max Values: 255, 254, 251
Mean Values: 218.14344108767142, 206.71759178234183, 185.57333284798798
Standard Deviation Values: 38.572424562018476, 30.928283071676685, 29.11787927213674
Object ID Field:
Fields:
None
Default Mosaic Method: Center
Allowed Mosaic Methods:
SortField:
SortValue: null
Mosaic Operator: First
Default Compression Quality: 75
Default Resampling Method: Bilinear
Max Record Count: null
Max Image Height: 4100
Max Image Width: 15000
Max Download Image Count: null
Max Mosaic Image Count: null
Allow Raster Function: true
Allow Copy: true
Allow Analysis: true
Allow Compute TiePoints: false
Supports Statistics: false
Supports Advanced Queries: false
Use StandardizedQueries: true
Raster Type Infos:
Name: Raster Dataset
Description: Supports all ArcGIS Raster Datasets
Help:
Has Raster Attribute Table: false
Edit Fields Info: null
Ownership Based AccessControl For Rasters: null
Child Resources:
Info
Histograms
Statistics
Key Properties
Legend
Raster Function Infos
Supported Operations:
Export Image
Identify
Measure
Compute Histograms
Compute Statistics Histograms
Get Samples
Compute Class Statistics
Query Boundary
Compute Pixel Location
Compute Angles
Validate
Project