{
 "currentVersion": 11.1,
 "serviceDescription": "hapsal/Hapsal_1866",
 "name": "hapsal/Hapsal_1866",
 "description": "",
 "extent": {
  "xmin": 471655.95725008834,
  "ymin": 6533373.787526473,
  "xmax": 474244.033352785,
  "ymax": 6536435.879526533,
  "spatialReference": {
   "wkid": 3301,
   "latestWkid": 3301
  }
 },
 "initialExtent": {
  "xmin": 471655.95725008834,
  "ymin": 6533373.787526473,
  "xmax": 474244.033352785,
  "ymax": 6536435.879526533,
  "spatialReference": {
   "wkid": 3301,
   "latestWkid": 3301
  }
 },
 "fullExtent": {
  "xmin": 471655.95725008834,
  "ymin": 6533373.787526473,
  "xmax": 474244.033352785,
  "ymax": 6536435.879526533,
  "spatialReference": {
   "wkid": 3301,
   "latestWkid": 3301
  }
 },
 "sortableFields": "",
 "bandCount": 3,
 "pixelType": "U8",
 "minValues": [
  12,
  12,
  0
 ],
 "maxValues": [
  255,
  254,
  251
 ],
 "meanValues": [
  218.14344108767142,
  206.71759178234183,
  185.57333284798798
 ],
 "stdvValues": [
  38.572424562018476,
  30.928283071676685,
  29.11787927213674
 ],
 "hasMultidimensions": false,
 "pixelSizeX": 0.17703509834439088,
 "pixelSizeY": 0.1770404717888404,
 "datasetFormat": "FGDBR",
 "uncompressedSize": 758550672,
 "blockWidth": 128,
 "blockHeight": 128,
 "compressionType": "JPEG",
 "bandNames": [
  "Band_1",
  "Band_2",
  "Band_3"
 ],
 "allowCopy": true,
 "allowAnalysis": true,
 "itemAccess": false,
 "minPixelSize": 0,
 "maxPixelSize": 0,
 "copyrightText": "",
 "serviceDataType": "esriImageServiceDataTypeRGB",
 "serviceSourceType": "esriImageServiceSourceTypeDataset",
 "objectIdField": "",
 "fields": [],
 "capabilities": "Image,Metadata,Mensuration",
 "defaultMosaicMethod": "Center",
 "allowedMosaicMethods": "",
 "sortField": "",
 "sortValue": null,
 "sortAscending": true,
 "mosaicOperator": "First",
 "defaultCompressionQuality": 75,
 "defaultResamplingMethod": "Bilinear",
 "maxImageHeight": 4100,
 "maxImageWidth": 15000,
 "allowRasterFunction": true,
 "rasterFunctionInfos": [
  {
   "name": "None",
   "description": "",
   "help": ""
  }
 ],
 "rasterTypeInfos": [
  {
   "name": "Raster Dataset",
   "description": "Supports all ArcGIS Raster Datasets",
   "help": ""
  }
 ],
 "mensurationCapabilities": "Basic",
 "hasHistograms": true,
 "hasColormap": false,
 "hasRasterAttributeTable": false,
 "minScale": 0,
 "maxScale": 0,
 "exportTilesAllowed": false,
 "supportsStatistics": false,
 "supportsAdvancedQueries": false,
 "editFieldsInfo": null,
 "ownershipBasedAccessControlForRasters": null,
 "allowComputeTiePoints": false,
 "useStandardizedQueries": true,
 "advancedQueryCapabilities": {
  "useStandardizedQueries": true,
  "supportsStatistics": false,
  "supportsOrderBy": false,
  "supportsDistinct": false,
  "supportsPagination": false
 },
 "spatialReference": {
  "wkid": 3301,
  "latestWkid": 3301
 }
}
