View In:
ArcGIS JavaScript
ArcGIS Online Map Viewer
ArcGIS Earth
Service Description: hapsal/Hapsal_1860
Name: hapsal/Hapsal_1860
Description:
Single Fused Map Cache: false
Extent:
XMin: 471672.5493274033
YMin: 6533392.533207557
XMax: 474317.0287591592
YMax: 6536551.995677473
Spatial Reference: 3301
(3301)
Initial Extent:
XMin: 471672.5493274033
YMin: 6533392.533207557
XMax: 474317.0287591592
YMax: 6536551.995677473
Spatial Reference: 3301
(3301)
Full Extent:
XMin: 471672.5493274033
YMin: 6533392.533207557
XMax: 474317.0287591592
YMax: 6536551.995677473
Spatial Reference: 3301
(3301)
Pixel Size X: 0.17823545405108168
Pixel Size Y: 0.17823888468441043
Band Count: 3
Pixel Type: U8
RasterFunction Infos: {"rasterFunctionInfos": [{
"name": "None",
"description": "",
"help": ""
}]}
Mensuration Capabilities: Basic
Has Histograms: true
Has Colormap: false
Has Multi Dimensions : false
Rendering Rule:
Min Scale: 0
Max Scale: 0
Copyright Text:
Service Data Type: esriImageServiceDataTypeRGB
Min Values: 47, 48, 40
Max Values: 255, 238, 228
Mean Values: 202.91119319115288, 185.83183652306383, 160.27228957318164
Standard Deviation Values: 29.395216682944824, 25.608966637127356, 23.598846512203185
Object ID Field:
Fields:
None
Default Mosaic Method: Center
Allowed Mosaic Methods:
SortField:
SortValue: null
Mosaic Operator: First
Default Compression Quality: 75
Default Resampling Method: Bilinear
Max Record Count: null
Max Image Height: 4100
Max Image Width: 15000
Max Download Image Count: null
Max Mosaic Image Count: null
Allow Raster Function: true
Allow Copy: true
Allow Analysis: true
Allow Compute TiePoints: false
Supports Statistics: false
Supports Advanced Queries: false
Use StandardizedQueries: true
Raster Type Infos:
Name: Raster Dataset
Description: Supports all ArcGIS Raster Datasets
Help:
Has Raster Attribute Table: false
Edit Fields Info: null
Ownership Based AccessControl For Rasters: null
Child Resources:
Info
Histograms
Statistics
Key Properties
Legend
Raster Function Infos
Supported Operations:
Export Image
Identify
Measure
Compute Histograms
Compute Statistics Histograms
Get Samples
Compute Class Statistics
Query Boundary
Compute Pixel Location
Compute Angles
Validate
Project