{
 "currentVersion": 11.1,
 "serviceDescription": "hapsal/Hapsal_1860",
 "name": "hapsal/Hapsal_1860",
 "description": "",
 "extent": {
  "xmin": 471672.5493274033,
  "ymin": 6533392.533207557,
  "xmax": 474317.0287591592,
  "ymax": 6536551.995677473,
  "spatialReference": {
   "wkid": 3301,
   "latestWkid": 3301
  }
 },
 "initialExtent": {
  "xmin": 471672.5493274033,
  "ymin": 6533392.533207557,
  "xmax": 474317.0287591592,
  "ymax": 6536551.995677473,
  "spatialReference": {
   "wkid": 3301,
   "latestWkid": 3301
  }
 },
 "fullExtent": {
  "xmin": 471672.5493274033,
  "ymin": 6533392.533207557,
  "xmax": 474317.0287591592,
  "ymax": 6536551.995677473,
  "spatialReference": {
   "wkid": 3301,
   "latestWkid": 3301
  }
 },
 "sortableFields": "",
 "bandCount": 3,
 "pixelType": "U8",
 "minValues": [
  47,
  48,
  40
 ],
 "maxValues": [
  255,
  238,
  228
 ],
 "meanValues": [
  202.91119319115288,
  185.83183652306383,
  160.27228957318164
 ],
 "stdvValues": [
  29.395216682944824,
  25.608966637127356,
  23.598846512203185
 ],
 "hasMultidimensions": false,
 "pixelSizeX": 0.17823545405108168,
 "pixelSizeY": 0.17823888468441043,
 "datasetFormat": "FGDBR",
 "uncompressedSize": 789001986,
 "blockWidth": 128,
 "blockHeight": 128,
 "compressionType": "JPEG",
 "bandNames": [
  "Band_1",
  "Band_2",
  "Band_3"
 ],
 "allowCopy": true,
 "allowAnalysis": true,
 "itemAccess": false,
 "minPixelSize": 0,
 "maxPixelSize": 0,
 "copyrightText": "",
 "serviceDataType": "esriImageServiceDataTypeRGB",
 "serviceSourceType": "esriImageServiceSourceTypeDataset",
 "objectIdField": "",
 "fields": [],
 "capabilities": "Image,Metadata,Mensuration",
 "defaultMosaicMethod": "Center",
 "allowedMosaicMethods": "",
 "sortField": "",
 "sortValue": null,
 "sortAscending": true,
 "mosaicOperator": "First",
 "defaultCompressionQuality": 75,
 "defaultResamplingMethod": "Bilinear",
 "maxImageHeight": 4100,
 "maxImageWidth": 15000,
 "allowRasterFunction": true,
 "rasterFunctionInfos": [
  {
   "name": "None",
   "description": "",
   "help": ""
  }
 ],
 "rasterTypeInfos": [
  {
   "name": "Raster Dataset",
   "description": "Supports all ArcGIS Raster Datasets",
   "help": ""
  }
 ],
 "mensurationCapabilities": "Basic",
 "hasHistograms": true,
 "hasColormap": false,
 "hasRasterAttributeTable": false,
 "minScale": 0,
 "maxScale": 0,
 "exportTilesAllowed": false,
 "supportsStatistics": false,
 "supportsAdvancedQueries": false,
 "editFieldsInfo": null,
 "ownershipBasedAccessControlForRasters": null,
 "allowComputeTiePoints": false,
 "useStandardizedQueries": true,
 "advancedQueryCapabilities": {
  "useStandardizedQueries": true,
  "supportsStatistics": false,
  "supportsOrderBy": false,
  "supportsDistinct": false,
  "supportsPagination": false
 },
 "spatialReference": {
  "wkid": 3301,
  "latestWkid": 3301
 }
}
