View In:
ArcGIS JavaScript
ArcGIS Online Map Viewer
ArcGIS Earth
Service Description: hapsal/Hapsal_1859
Name: hapsal/Hapsal_1859
Description:
Single Fused Map Cache: true
Tile Info:
- Height: 256
- Width: 256
- DPI: 96
-
Levels of Detail: 9
- Format: MIXED
- Compression Quality: 75.0
- LERC Error: NaN
- Origin: X: -3.4999E7
Y: 4.58941E7
- Spatial Reference: 3301
(3301)
Storage Info:
- Storage Format: esriMapCacheStorageModeCompactV2
- Packet Size: 128
Extent:
XMin: 471557.791441135
YMin: 6529356.059198575
XMax: 475678.75526671106
YMax: 6536222.457512571
Spatial Reference: 3301
(3301)
Initial Extent:
XMin: 471557.791441135
YMin: 6529356.059198575
XMax: 475678.75526671106
YMax: 6536222.457512571
Spatial Reference: 3301
(3301)
Full Extent:
XMin: 471557.791441135
YMin: 6529356.059198575
XMax: 475678.75526671106
YMax: 6536222.457512571
Spatial Reference: 3301
(3301)
Pixel Size X: 0.35504125317274626
Pixel Size Y: 0.35505446579427324
Band Count: 3
Pixel Type: U8
RasterFunction Infos: {"rasterFunctionInfos": [{
"name": "None",
"description": "",
"help": ""
}]}
Mensuration Capabilities: Basic
Has Histograms: true
Has Colormap: false
Has Multi Dimensions : false
Rendering Rule:
Min Scale: 0
Max Scale: 0
Copyright Text:
Service Data Type: esriImageServiceDataTypeRGB
Min Values: 42, 49, 46
Max Values: 246, 239, 229
Mean Values: 204.16658397692515, 189.67292065861778, 163.4368635549613
Standard Deviation Values: 25.585872534992777, 21.778827035106726, 18.594814397011664
Object ID Field:
Fields:
None
Default Mosaic Method: Center
Allowed Mosaic Methods:
SortField:
SortValue: null
Mosaic Operator: First
Default Compression Quality: 100
Default Resampling Method: Bilinear
Max Record Count: null
Max Image Height: 4100
Max Image Width: 15000
Max Download Image Count: null
Max Mosaic Image Count: null
Allow Raster Function: true
Allow Copy: true
Allow Analysis: true
Allow Compute TiePoints: false
Supports Statistics: false
Supports Advanced Queries: false
Use StandardizedQueries: true
Raster Type Infos:
Name: Raster Dataset
Description: Supports all ArcGIS Raster Datasets
Help:
Has Raster Attribute Table: false
Edit Fields Info: null
Ownership Based AccessControl For Rasters: null
Child Resources:
Info
Histograms
Statistics
Key Properties
Legend
Raster Function Infos
Supported Operations:
Export Image
Identify
Measure
Compute Histograms
Compute Statistics Histograms
Get Samples
Compute Class Statistics
Query Boundary
Compute Pixel Location
Compute Angles
Validate
Project