{
 "currentVersion": 11.1,
 "serviceDescription": "hapsal/Hapsal_1859",
 "name": "hapsal/Hapsal_1859",
 "description": "",
 "extent": {
  "xmin": 471557.791441135,
  "ymin": 6529356.059198575,
  "xmax": 475678.75526671106,
  "ymax": 6536222.457512571,
  "spatialReference": {
   "wkid": 3301,
   "latestWkid": 3301
  }
 },
 "initialExtent": {
  "xmin": 471557.791441135,
  "ymin": 6529356.059198575,
  "xmax": 475678.75526671106,
  "ymax": 6536222.457512571,
  "spatialReference": {
   "wkid": 3301,
   "latestWkid": 3301
  }
 },
 "fullExtent": {
  "xmin": 471557.791441135,
  "ymin": 6529356.059198575,
  "xmax": 475678.75526671106,
  "ymax": 6536222.457512571,
  "spatialReference": {
   "wkid": 3301,
   "latestWkid": 3301
  }
 },
 "sortableFields": "",
 "bandCount": 3,
 "pixelType": "U8",
 "minValues": [
  42,
  49,
  46
 ],
 "maxValues": [
  246,
  239,
  229
 ],
 "meanValues": [
  204.16658397692515,
  189.67292065861778,
  163.4368635549613
 ],
 "stdvValues": [
  25.585872534992777,
  21.778827035106726,
  18.594814397011664
 ],
 "hasMultidimensions": false,
 "pixelSizeX": 0.35504125317274626,
 "pixelSizeY": 0.35505446579427324,
 "datasetFormat": "FGDBR",
 "uncompressedSize": 673403319,
 "blockWidth": 128,
 "blockHeight": 128,
 "compressionType": "JPEG",
 "bandNames": [
  "Band_1",
  "Band_2",
  "Band_3"
 ],
 "allowCopy": true,
 "allowAnalysis": true,
 "itemAccess": false,
 "minPixelSize": 0,
 "maxPixelSize": 0,
 "copyrightText": "",
 "serviceDataType": "esriImageServiceDataTypeRGB",
 "serviceSourceType": "esriImageServiceSourceTypeDataset",
 "objectIdField": "",
 "fields": [],
 "capabilities": "Mensuration,Image,Metadata",
 "defaultMosaicMethod": "Center",
 "allowedMosaicMethods": "",
 "sortField": "",
 "sortValue": null,
 "sortAscending": true,
 "mosaicOperator": "First",
 "defaultCompressionQuality": 100,
 "defaultResamplingMethod": "Bilinear",
 "maxImageHeight": 4100,
 "maxImageWidth": 15000,
 "singleFusedMapCache": true,
 "tileInfo": {
  "rows": 256,
  "cols": 256,
  "dpi": 96,
  "format": "MIXED",
  "compressionQuality": 75,
  "origin": {
   "x": -34999000,
   "y": 45894100
  },
  "spatialReference": {
   "wkid": 3301,
   "latestWkid": 3301
  },
  "lods": [
   {
    "level": 0,
    "resolution": 8.466683600033868,
    "scale": 32000
   },
   {
    "level": 1,
    "resolution": 4.233341800016934,
    "scale": 16000
   },
   {
    "level": 2,
    "resolution": 2.116670900008467,
    "scale": 8000
   },
   {
    "level": 3,
    "resolution": 1.0583354500042335,
    "scale": 4000
   },
   {
    "level": 4,
    "resolution": 0.5291677250021167,
    "scale": 2000
   },
   {
    "level": 5,
    "resolution": 0.26458386250105836,
    "scale": 1000
   },
   {
    "level": 6,
    "resolution": 0.13229193125052918,
    "scale": 500
   },
   {
    "level": 7,
    "resolution": 0.06614596562526459,
    "scale": 250
   },
   {
    "level": 8,
    "resolution": 0.033072982812632296,
    "scale": 125
   }
  ]
 },
 "storageInfo": {
  "storageFormat": "esriMapCacheStorageModeCompactV2",
  "packetSize": 128
 },
 "cacheType": "Map",
 "allowRasterFunction": true,
 "rasterFunctionInfos": [
  {
   "name": "None",
   "description": "",
   "help": ""
  }
 ],
 "rasterTypeInfos": [
  {
   "name": "Raster Dataset",
   "description": "Supports all ArcGIS Raster Datasets",
   "help": ""
  }
 ],
 "mensurationCapabilities": "Basic",
 "hasHistograms": true,
 "hasColormap": false,
 "hasRasterAttributeTable": false,
 "minScale": 0,
 "maxScale": 0,
 "exportTilesAllowed": false,
 "supportsStatistics": false,
 "supportsAdvancedQueries": false,
 "editFieldsInfo": null,
 "ownershipBasedAccessControlForRasters": null,
 "allowComputeTiePoints": false,
 "useStandardizedQueries": true,
 "advancedQueryCapabilities": {
  "useStandardizedQueries": true,
  "supportsStatistics": false,
  "supportsOrderBy": false,
  "supportsDistinct": false,
  "supportsPagination": false
 },
 "spatialReference": {
  "wkid": 3301,
  "latestWkid": 3301
 }
}
