<?xml version="1.0" encoding="UTF-8" standalone="no"?>
<metadata xml:lang="et">
<Esri>
<CreaDate>20220824</CreaDate>
<CreaTime>15520200</CreaTime>
<ArcGISFormat>1.0</ArcGISFormat>
<SyncOnce>FALSE</SyncOnce>
<DataProperties>
<itemProps>
<itemName Sync="TRUE">Hapsal_1866</itemName>
<imsContentType Sync="TRUE">002</imsContentType>
<nativeExtBox>
<westBL Sync="TRUE">471655.957250</westBL>
<eastBL Sync="TRUE">474244.033353</eastBL>
<southBL Sync="TRUE">6533373.787526</southBL>
<northBL Sync="TRUE">6536435.879527</northBL>
<exTypeCode Sync="TRUE">1</exTypeCode>
</nativeExtBox>
<itemLocation>
<linkage Sync="TRUE">file://\\LEN-PEEP\C$\Users\peep.aedviir\OneDrive - Haapsalu Linnavalitsus\Documents\ArcGIS\Projects\Hapsal_kaardikohtide_loomine\Hapsal_kaardikohtide_loomine.gdb</linkage>
<protocol Sync="TRUE">Local Area Network</protocol>
</itemLocation>
</itemProps>
<coordRef>
<type Sync="TRUE">Projected</type>
<geogcsn Sync="TRUE">GCS_Estonia_1997</geogcsn>
<csUnits Sync="TRUE">Linear Unit: Meter (1.000000)</csUnits>
<projcsn Sync="TRUE">Estonia_1997_Estonia_National_Grid</projcsn>
<peXml Sync="TRUE">&lt;ProjectedCoordinateSystem xsi:type='typens:ProjectedCoordinateSystem' xmlns:xsi='http://www.w3.org/2001/XMLSchema-instance' xmlns:xs='http://www.w3.org/2001/XMLSchema' xmlns:typens='http://www.esri.com/schemas/ArcGIS/3.0.0'&gt;&lt;WKT&gt;PROJCS[&amp;quot;Estonia_1997_Estonia_National_Grid&amp;quot;,GEOGCS[&amp;quot;GCS_Estonia_1997&amp;quot;,DATUM[&amp;quot;D_Estonia_1997&amp;quot;,SPHEROID[&amp;quot;GRS_1980&amp;quot;,6378137.0,298.257222101]],PRIMEM[&amp;quot;Greenwich&amp;quot;,0.0],UNIT[&amp;quot;Degree&amp;quot;,0.0174532925199433]],PROJECTION[&amp;quot;Lambert_Conformal_Conic&amp;quot;],PARAMETER[&amp;quot;False_Easting&amp;quot;,500000.0],PARAMETER[&amp;quot;False_Northing&amp;quot;,6375000.0],PARAMETER[&amp;quot;Central_Meridian&amp;quot;,24.0],PARAMETER[&amp;quot;Standard_Parallel_1&amp;quot;,58.0],PARAMETER[&amp;quot;Standard_Parallel_2&amp;quot;,59.33333333333334],PARAMETER[&amp;quot;Latitude_Of_Origin&amp;quot;,57.51755393055556],UNIT[&amp;quot;Meter&amp;quot;,1.0],AUTHORITY[&amp;quot;EPSG&amp;quot;,3301]]&lt;/WKT&gt;&lt;XOrigin&gt;-34999000&lt;/XOrigin&gt;&lt;YOrigin&gt;-25103900&lt;/YOrigin&gt;&lt;XYScale&gt;126865535.01142272&lt;/XYScale&gt;&lt;ZOrigin&gt;0&lt;/ZOrigin&gt;&lt;ZScale&gt;1&lt;/ZScale&gt;&lt;MOrigin&gt;0&lt;/MOrigin&gt;&lt;MScale&gt;1&lt;/MScale&gt;&lt;XYTolerance&gt;0.001&lt;/XYTolerance&gt;&lt;ZTolerance&gt;0.001&lt;/ZTolerance&gt;&lt;MTolerance&gt;0.001&lt;/MTolerance&gt;&lt;HighPrecision&gt;true&lt;/HighPrecision&gt;&lt;WKID&gt;3301&lt;/WKID&gt;&lt;LatestWKID&gt;3301&lt;/LatestWKID&gt;&lt;/ProjectedCoordinateSystem&gt;</peXml>
</coordRef>
<lineage>
<Process Date="20220824" Name="" Time="155209" ToolSource="c:\program files\arcgis\pro\Resources\ArcToolbox\toolboxes\Data Management Tools.tbx\Clip" export="">Clip 1866.tif "471655,957250088 6533373,78752647 474244,033352785 6536435,87952653" "C:\Users\peep.aedviir\OneDrive - Haapsalu Linnavalitsus\Documents\ArcGIS\Projects\Hapsal_kaardikohtide_loomine\Hapsal_kaardikohtide_loomine.gdb\Hapsal_1866" 1866_kate 256 ClippingGeometry MAINTAIN_EXTENT</Process>
</lineage>
</DataProperties>
<SyncDate>20220824</SyncDate>
<SyncTime>15520300</SyncTime>
<ModDate>20220824</ModDate>
<ModTime>16060900</ModTime>
<scaleRange>
<minScale>150000000</minScale>
<maxScale>5000</maxScale>
</scaleRange>
<ArcGISProfile>ItemDescription</ArcGISProfile>
</Esri>
<dataIdInfo>
<envirDesc Sync="TRUE">Microsoft Windows 10 Version 10.0 (Build 19044) ; Esri ArcGIS 13.0.0.36056</envirDesc>
<dataLang>
<languageCode Sync="TRUE" value="est"/>
<countryCode Sync="TRUE" value="EST"/>
</dataLang>
<idCitation>
<resTitle Sync="TRUE">Hapsal_1866</resTitle>
<presForm>
<PresFormCd Sync="TRUE" value="011"/>
</presForm>
</idCitation>
<spatRpType>
<SpatRepTypCd Sync="TRUE" value="002"/>
</spatRpType>
<dataExt>
<geoEle>
<GeoBndBox esriExtentType="search">
<exTypeCode Sync="TRUE">1</exTypeCode>
<westBL Sync="TRUE">23.507302</westBL>
<eastBL Sync="TRUE">23.552644</eastBL>
<northBL Sync="TRUE">58.966193</northBL>
<southBL Sync="TRUE">58.938541</southBL>
</GeoBndBox>
</geoEle>
</dataExt>
<idPurp>Hapsal_1866</idPurp>
<searchKeys>
<keyword>Hapsal_1866</keyword>
</searchKeys>
<idAbs/>
<idCredit/>
<resConst>
<Consts>
<useLimit/>
</Consts>
</resConst>
</dataIdInfo>
<mdLang>
<languageCode Sync="TRUE" value="est"/>
<countryCode Sync="TRUE" value="EST"/>
</mdLang>
<distInfo>
<distFormat>
<formatName Sync="TRUE">File Geodatabase Raster Dataset</formatName>
</distFormat>
</distInfo>
<mdHrLv>
<ScopeCd Sync="TRUE" value="005"/>
</mdHrLv>
<mdHrLvName Sync="TRUE">dataset</mdHrLvName>
<refSysInfo>
<RefSystem>
<refSysID>
<identCode Sync="TRUE" code="3301"/>
<idCodeSpace Sync="TRUE">EPSG</idCodeSpace>
<idVersion Sync="TRUE">6.7(9.0.0)</idVersion>
</refSysID>
</RefSystem>
</refSysInfo>
<spdoinfo>
<rastinfo>
<rasttype Sync="TRUE">Pixel</rasttype>
<rowcount Sync="TRUE">17296</rowcount>
<colcount Sync="TRUE">14619</colcount>
<rastxsz Sync="TRUE">0,177035</rastxsz>
<rastysz Sync="TRUE">0,177040</rastysz>
<rastbpp Sync="TRUE">8</rastbpp>
<vrtcount Sync="TRUE">1</vrtcount>
<rastorig Sync="TRUE">Upper Left</rastorig>
<rastcmap Sync="TRUE">FALSE</rastcmap>
<rastcomp Sync="TRUE">JPEG</rastcomp>
<rastband Sync="TRUE">3</rastband>
<rastdtyp Sync="TRUE">pixel codes</rastdtyp>
<rastifor Sync="TRUE">FGDBR</rastifor>
<rastplyr Sync="TRUE">TRUE</rastplyr>
</rastinfo>
</spdoinfo>
<spref>
<horizsys>
<planar>
<planci>
<plance Sync="TRUE">row and column</plance>
<coordrep>
<absres Sync="TRUE">0,177035</absres>
<ordres Sync="TRUE">0,177040</ordres>
</coordrep>
</planci>
</planar>
</horizsys>
</spref>
<mdDateSt Sync="TRUE">20220824</mdDateSt>
</metadata>
