{ "currentVersion": 11.1, "cimVersion": "3.1.0", "serviceDescription": "
Väärtuslikud alad ja piirangud WEB<\/SPAN><\/P><\/DIV>",
"mapName": "Väärtuslikud alad ja piirangud MUUDETAV",
"description": " Väärtuslikud alad ja piirangud WEB<\/SPAN><\/P><\/DIV>",
"copyrightText": "",
"supportsDynamicLayers": true,
"layers": [
{
"id": 84,
"name": "Kultuuriväärtused",
"parentLayerId": -1,
"defaultVisibility": true,
"subLayerIds": [
89,
71,
76,
74,
78,
24,
1495,
1497,
1500,
1508,
10
],
"minScale": 0,
"maxScale": 0,
"type": "Group Layer",
"supportsDynamicLegends": false
},
{
"id": 89,
"name": "Miljööväärtuslik ala",
"parentLayerId": 84,
"defaultVisibility": true,
"subLayerIds": null,
"minScale": 0,
"maxScale": 0,
"type": "Feature Layer",
"geometryType": "esriGeometryPolygon",
"supportsDynamicLegends": true
},
{
"id": 71,
"name": "XX sajandi arhitektuuripärandi objektid (infokiht)",
"parentLayerId": 84,
"defaultVisibility": true,
"subLayerIds": null,
"minScale": 0,
"maxScale": 0,
"type": "Feature Layer",
"geometryType": "esriGeometryPoint",
"supportsDynamicLegends": true
},
{
"id": 76,
"name": "Maaehituspärand (infokihid)",
"parentLayerId": 84,
"defaultVisibility": true,
"subLayerIds": null,
"minScale": 0,
"maxScale": 0,
"type": "Feature Layer",
"geometryType": "esriGeometryPoint",
"supportsDynamicLegends": true
},
{
"id": 74,
"name": "Militaarpärand (infokihid)",
"parentLayerId": 84,
"defaultVisibility": true,
"subLayerIds": null,
"minScale": 0,
"maxScale": 0,
"type": "Feature Layer",
"geometryType": "esriGeometryPoint",
"supportsDynamicLegends": true
},
{
"id": 78,
"name": "Haapsalu vanalinna muinsuskaitseala piir (infokiht)",
"parentLayerId": 84,
"defaultVisibility": true,
"subLayerIds": null,
"minScale": 0,
"maxScale": 0,
"type": "Feature Layer",
"geometryType": "esriGeometryPolygon",
"supportsDynamicLegends": true
},
{
"id": 24,
"name": "Haapsalu vanalinna muinsuskaitseala ja raudteejaama objektide kaitsevöönd (infokiht)",
"parentLayerId": 84,
"defaultVisibility": true,
"subLayerIds": null,
"minScale": 0,
"maxScale": 0,
"type": "Feature Layer",
"geometryType": "esriGeometryPolyline",
"supportsDynamicLegends": true
},
{
"id": 1495,
"name": "Kultuurimälestis punktobjekt (infokiht 2023.02.07)",
"parentLayerId": 84,
"defaultVisibility": true,
"subLayerIds": null,
"minScale": 0,
"maxScale": 0,
"type": "Feature Layer",
"geometryType": "esriGeometryPoint",
"supportsDynamicLegends": true
},
{
"id": 1497,
"name": "Kultuurimälestis ala (infokiht 2023.02.07)",
"parentLayerId": 84,
"defaultVisibility": true,
"subLayerIds": null,
"minScale": 0,
"maxScale": 0,
"type": "Feature Layer",
"geometryType": "esriGeometryPolygon",
"supportsDynamicLegends": true
},
{
"id": 1500,
"name": "Kultuurimälestise kaitsevöönd (infokiht 2023.02.07)",
"parentLayerId": 84,
"defaultVisibility": true,
"subLayerIds": null,
"minScale": 0,
"maxScale": 0,
"type": "Feature Layer",
"geometryType": "esriGeometryPolygon",
"supportsDynamicLegends": true
},
{
"id": 1508,
"name": "Haapsalu arheoloogiatundlikud alad (infokikt)",
"parentLayerId": 84,
"defaultVisibility": true,
"subLayerIds": null,
"minScale": 0,
"maxScale": 0,
"type": "Feature Layer",
"geometryType": "esriGeometryPolygon",
"supportsDynamicLegends": true
},
{
"id": 10,
"name": "Pärandkultuur (infokihid 2023.04.12)",
"parentLayerId": 84,
"defaultVisibility": true,
"subLayerIds": [
72,
6,
8
],
"minScale": 0,
"maxScale": 0,
"type": "Group Layer",
"supportsDynamicLegends": false
},
{
"id": 72,
"name": "Pärandkultuuriobjekt (infokiht 2023.04.12)",
"parentLayerId": 10,
"defaultVisibility": true,
"subLayerIds": null,
"minScale": 0,
"maxScale": 0,
"type": "Feature Layer",
"geometryType": "esriGeometryPolygon",
"supportsDynamicLegends": true
},
{
"id": 6,
"name": "Pärandkultuuriobjekt (infokiht 2023.04.12)",
"parentLayerId": 10,
"defaultVisibility": true,
"subLayerIds": null,
"minScale": 0,
"maxScale": 0,
"type": "Feature Layer",
"geometryType": "esriGeometryPoint",
"supportsDynamicLegends": true
},
{
"id": 8,
"name": "Pärandkultuuriobjekt (infokiht 2023.04.12)",
"parentLayerId": 10,
"defaultVisibility": true,
"subLayerIds": null,
"minScale": 0,
"maxScale": 0,
"type": "Feature Layer",
"geometryType": "esriGeometryPolyline",
"supportsDynamicLegends": true
},
{
"id": 27,
"name": "Looduslikud väärtused",
"parentLayerId": -1,
"defaultVisibility": true,
"subLayerIds": [
86,
95,
1494,
1493,
1491,
1492,
73,
33,
88,
1529,
55
],
"minScale": 0,
"maxScale": 0,
"type": "Group Layer",
"supportsDynamicLegends": false
},
{
"id": 86,
"name": "Ilmekas vaatekoht (infokihid)",
"parentLayerId": 27,
"defaultVisibility": true,
"subLayerIds": [
81,
83
],
"minScale": 0,
"maxScale": 0,
"type": "Group Layer",
"supportsDynamicLegends": false
},
{
"id": 81,
"name": "Ilmekas vaatekoht",
"parentLayerId": 86,
"defaultVisibility": true,
"subLayerIds": null,
"minScale": 0,
"maxScale": 0,
"type": "Feature Layer",
"geometryType": "esriGeometryPoint",
"supportsDynamicLegends": true
},
{
"id": 83,
"name": "Vaatekoridor",
"parentLayerId": 86,
"defaultVisibility": true,
"subLayerIds": null,
"minScale": 0,
"maxScale": 0,
"type": "Feature Layer",
"geometryType": "esriGeometryPolygon",
"supportsDynamicLegends": true
},
{
"id": 95,
"name": "Kohaliku kaitse aluse metsa Maa-ala",
"parentLayerId": 27,
"defaultVisibility": true,
"subLayerIds": null,
"minScale": 0,
"maxScale": 0,
"type": "Feature Layer",
"geometryType": "esriGeometryPolygon",
"supportsDynamicLegends": true
},
{
"id": 1494,
"name": "Rohevõrgustik",
"parentLayerId": 27,
"defaultVisibility": true,
"subLayerIds": null,
"minScale": 0,
"maxScale": 0,
"type": "Feature Layer",
"geometryType": "esriGeometryPolygon",
"supportsDynamicLegends": true
},
{
"id": 1493,
"name": "Sinivõrgustik - tugiala",
"parentLayerId": 27,
"defaultVisibility": false,
"subLayerIds": null,
"minScale": 0,
"maxScale": 0,
"type": "Feature Layer",
"geometryType": "esriGeometryPolygon",
"supportsDynamicLegends": true
},
{
"id": 1491,
"name": "Väärtuslik maastik",
"parentLayerId": 27,
"defaultVisibility": true,
"subLayerIds": null,
"minScale": 0,
"maxScale": 0,
"type": "Feature Layer",
"geometryType": "esriGeometryPolygon",
"supportsDynamicLegends": true
},
{
"id": 1492,
"name": "Ilmekas teelõik väärtuslikul maastikul",
"parentLayerId": 27,
"defaultVisibility": true,
"subLayerIds": null,
"minScale": 0,
"maxScale": 0,
"type": "Feature Layer",
"geometryType": "esriGeometryPolygon",
"supportsDynamicLegends": true
},
{
"id": 73,
"name": "KAH alad",
"parentLayerId": 27,
"defaultVisibility": true,
"subLayerIds": null,
"minScale": 0,
"maxScale": 0,
"type": "Feature Layer",
"geometryType": "esriGeometryPolygon",
"supportsDynamicLegends": true
},
{
"id": 33,
"name": "Väärtuslik põllumajandusmaa",
"parentLayerId": 27,
"defaultVisibility": true,
"subLayerIds": null,
"minScale": 0,
"maxScale": 0,
"type": "Feature Layer",
"geometryType": "esriGeometryPolygon",
"supportsDynamicLegends": true
},
{
"id": 88,
"name": "Mets asula kaitseks",
"parentLayerId": 27,
"defaultVisibility": true,
"subLayerIds": null,
"minScale": 0,
"maxScale": 0,
"type": "Feature Layer",
"geometryType": "esriGeometryPolygon",
"supportsDynamicLegends": true
},
{
"id": 1529,
"name": "EELIS (infokihid 2023.04.12)",
"parentLayerId": 27,
"defaultVisibility": true,
"subLayerIds": [
1534,
1535,
1536,
1537,
101
],
"minScale": 0,
"maxScale": 0,
"type": "Group Layer",
"supportsDynamicLegends": false
},
{
"id": 1534,
"name": "Vääriselupaigad (infokiht 2023.04.13)",
"parentLayerId": 1529,
"defaultVisibility": true,
"subLayerIds": null,
"minScale": 0,
"maxScale": 0,
"type": "Feature Layer",
"geometryType": "esriGeometryPolygon",
"supportsDynamicLegends": true
},
{
"id": 1535,
"name": "Kaitsealuse liigi elupaik (infokihid 2023.04.12)",
"parentLayerId": 1529,
"defaultVisibility": true,
"subLayerIds": [
7,
4
],
"minScale": 0,
"maxScale": 0,
"type": "Group Layer",
"supportsDynamicLegends": false
},
{
"id": 7,
"name": "Kaitsealuse liigi elupaik, punkt (infokiht 2023.04.12)",
"parentLayerId": 1535,
"defaultVisibility": true,
"subLayerIds": null,
"minScale": 0,
"maxScale": 0,
"type": "Feature Layer",
"geometryType": "esriGeometryPoint",
"supportsDynamicLegends": true
},
{
"id": 4,
"name": "Kaitsealuse liigi elupaik, ala (infokihid 2023.04.12)",
"parentLayerId": 1535,
"defaultVisibility": true,
"subLayerIds": null,
"minScale": 0,
"maxScale": 0,
"type": "Feature Layer",
"geometryType": "esriGeometryPolygon",
"supportsDynamicLegends": true
},
{
"id": 1536,
"name": "Kaitsealad (infokiht 2023.04.13)",
"parentLayerId": 1529,
"defaultVisibility": true,
"subLayerIds": null,
"minScale": 0,
"maxScale": 0,
"type": "Feature Layer",
"geometryType": "esriGeometryPolygon",
"supportsDynamicLegends": true
},
{
"id": 1537,
"name": "Hoiualad (infokiht 2023.04.13)",
"parentLayerId": 1529,
"defaultVisibility": true,
"subLayerIds": null,
"minScale": 0,
"maxScale": 0,
"type": "Feature Layer",
"geometryType": "esriGeometryPolygon",
"supportsDynamicLegends": true
},
{
"id": 101,
"name": "Natura (infokihid 2023.04.12)",
"parentLayerId": 1529,
"defaultVisibility": true,
"subLayerIds": [
75,
77,
3
],
"minScale": 0,
"maxScale": 0,
"type": "Group Layer",
"supportsDynamicLegends": false
},
{
"id": 75,
"name": "Natura elupaik (infokiht 2023.04.12)",
"parentLayerId": 101,
"defaultVisibility": false,
"subLayerIds": null,
"minScale": 0,
"maxScale": 0,
"type": "Feature Layer",
"geometryType": "esriGeometryPolygon",
"supportsDynamicLegends": true
},
{
"id": 77,
"name": "Natura2000 loodusalad (infokiht)",
"parentLayerId": 101,
"defaultVisibility": false,
"subLayerIds": null,
"minScale": 0,
"maxScale": 0,
"type": "Feature Layer",
"geometryType": "esriGeometryPolygon",
"supportsDynamicLegends": true
},
{
"id": 3,
"name": "Natura2000 linnualad (infokiht)",
"parentLayerId": 101,
"defaultVisibility": true,
"subLayerIds": null,
"minScale": 0,
"maxScale": 0,
"type": "Feature Layer",
"geometryType": "esriGeometryPolygon",
"supportsDynamicLegends": true
},
{
"id": 55,
"name": "Maavarad (infokihid) ",
"parentLayerId": 27,
"defaultVisibility": true,
"subLayerIds": [
35,
39,
40
],
"minScale": 0,
"maxScale": 0,
"type": "Group Layer",
"supportsDynamicLegends": false
},
{
"id": 35,
"name": "Maardla (infokiht)",
"parentLayerId": 55,
"defaultVisibility": true,
"subLayerIds": null,
"minScale": 0,
"maxScale": 0,
"type": "Feature Layer",
"geometryType": "esriGeometryPolygon",
"supportsDynamicLegends": true
},
{
"id": 39,
"name": "Mäeeraldis - aktiivne (infokiht)",
"parentLayerId": 55,
"defaultVisibility": true,
"subLayerIds": null,
"minScale": 0,
"maxScale": 0,
"type": "Feature Layer",
"geometryType": "esriGeometryPolygon",
"supportsDynamicLegends": true
},
{
"id": 40,
"name": "Mäeeraldise teenindusmaa - aktiivne (infokiht)",
"parentLayerId": 55,
"defaultVisibility": true,
"subLayerIds": null,
"minScale": 0,
"maxScale": 0,
"type": "Feature Layer",
"geometryType": "esriGeometryPolygon",
"supportsDynamicLegends": true
},
{
"id": 56,
"name": "Rand ja kallas",
"parentLayerId": -1,
"defaultVisibility": true,
"subLayerIds": [
1505,
1526,
0,
21,
20,
1503,
97,
1504,
1547,
1501,
22,
1546,
57
],
"minScale": 0,
"maxScale": 0,
"type": "Group Layer",
"supportsDynamicLegends": false
},
{
"id": 1505,
"name": "Haapsalu ehituskeeluvööndi ettepanek",
"parentLayerId": 56,
"defaultVisibility": true,
"subLayerIds": null,
"minScale": 0,
"maxScale": 0,
"type": "Feature Layer",
"geometryType": "esriGeometryPolyline",
"supportsDynamicLegends": true
},
{
"id": 1526,
"name": "Topu OÜP ehituskeeluvöönd (infokiht)",
"parentLayerId": 56,
"defaultVisibility": true,
"subLayerIds": null,
"minScale": 0,
"maxScale": 0,
"type": "Feature Layer",
"geometryType": "esriGeometryPolyline",
"supportsDynamicLegends": true
},
{
"id": 0,
"name": "Korduva üleujutusega ala piir LKS tähenduses (infokiht)",
"parentLayerId": 56,
"defaultVisibility": false,
"subLayerIds": null,
"minScale": 0,
"maxScale": 0,
"type": "Feature Layer",
"geometryType": "esriGeometryPolyline",
"supportsDynamicLegends": true
},
{
"id": 21,
"name": "Ehituskeelu- ja ranna piiranguvööndi lähtejoon",
"parentLayerId": 56,
"defaultVisibility": true,
"subLayerIds": null,
"minScale": 0,
"maxScale": 0,
"type": "Feature Layer",
"geometryType": "esriGeometryPolyline",
"supportsDynamicLegends": true
},
{
"id": 20,
"name": "Planeeritav kaldakindlustus",
"parentLayerId": 56,
"defaultVisibility": true,
"subLayerIds": null,
"minScale": 0,
"maxScale": 0,
"type": "Feature Layer",
"geometryType": "esriGeometryPolyline",
"supportsDynamicLegends": true
},
{
"id": 1503,
"name": "Kehtiv Haapsalu YP ehituskeeluvöönd (infokiht)",
"parentLayerId": 56,
"defaultVisibility": false,
"subLayerIds": null,
"minScale": 0,
"maxScale": 0,
"type": "Feature Layer",
"geometryType": "esriGeometryPolyline",
"supportsDynamicLegends": true
},
{
"id": 97,
"name": "Ranna piiranguvöönd (infokiht)",
"parentLayerId": 56,
"defaultVisibility": true,
"subLayerIds": null,
"minScale": 0,
"maxScale": 0,
"type": "Feature Layer",
"geometryType": "esriGeometryPolygon",
"supportsDynamicLegends": true
},
{
"id": 1504,
"name": "Ehituskeeluvöönd 50 m (infokiht)",
"parentLayerId": 56,
"defaultVisibility": true,
"subLayerIds": null,
"minScale": 0,
"maxScale": 0,
"type": "Feature Layer",
"geometryType": "esriGeometryPolygon",
"supportsDynamicLegends": true
},
{
"id": 1547,
"name": "Ehituskeeluvöönd 100 m (infokiht)",
"parentLayerId": 56,
"defaultVisibility": true,
"subLayerIds": null,
"minScale": 0,
"maxScale": 0,
"type": "Feature Layer",
"geometryType": "esriGeometryPolygon",
"supportsDynamicLegends": true
},
{
"id": 1501,
"name": "1 m kõrgusjoon (infokiht)",
"parentLayerId": 56,
"defaultVisibility": true,
"subLayerIds": null,
"minScale": 0,
"maxScale": 0,
"type": "Feature Layer",
"geometryType": "esriGeometryPolyline",
"supportsDynamicLegends": true
},
{
"id": 22,
"name": "Supluskoht",
"parentLayerId": 56,
"defaultVisibility": true,
"subLayerIds": null,
"minScale": 0,
"maxScale": 0,
"type": "Feature Layer",
"geometryType": "esriGeometryPoint",
"supportsDynamicLegends": true
},
{
"id": 1546,
"name": "Haapsalu linna kaldajoon 2023 (infokiht)",
"parentLayerId": 56,
"defaultVisibility": true,
"subLayerIds": null,
"minScale": 0,
"maxScale": 0,
"type": "Feature Layer",
"geometryType": "esriGeometryPolyline",
"supportsDynamicLegends": true
},
{
"id": 57,
"name": "Üleujutus (infokihid)",
"parentLayerId": 56,
"defaultVisibility": false,
"subLayerIds": [
11,
12
],
"minScale": 0,
"maxScale": 0,
"type": "Group Layer",
"supportsDynamicLegends": false
},
{
"id": 11,
"name": "Üleujutusohuga ala (maakonnaplaneeringust, infokiht)",
"parentLayerId": 57,
"defaultVisibility": true,
"subLayerIds": null,
"minScale": 0,
"maxScale": 0,
"type": "Feature Layer",
"geometryType": "esriGeometryPolygon",
"supportsDynamicLegends": true
},
{
"id": 12,
"name": "Üleujutuse riskipiirkonnad (Üleujutusdirektiiv, infokiht)",
"parentLayerId": 57,
"defaultVisibility": true,
"subLayerIds": [
13,
85,
80,
82,
17
],
"minScale": 0,
"maxScale": 0,
"type": "Group Layer",
"supportsDynamicLegends": false
},
{
"id": 13,
"name": "T10a_kooswtrk",
"parentLayerId": 12,
"defaultVisibility": true,
"subLayerIds": null,
"minScale": 0,
"maxScale": 0,
"type": "Feature Layer",
"geometryType": "esriGeometryPolygon",
"supportsDynamicLegends": true
},
{
"id": 85,
"name": "T50a_kooswtrk",
"parentLayerId": 12,
"defaultVisibility": true,
"subLayerIds": null,
"minScale": 0,
"maxScale": 0,
"type": "Feature Layer",
"geometryType": "esriGeometryPolygon",
"supportsDynamicLegends": true
},
{
"id": 80,
"name": "T100a_kooswtrk",
"parentLayerId": 12,
"defaultVisibility": true,
"subLayerIds": null,
"minScale": 0,
"maxScale": 0,
"type": "Feature Layer",
"geometryType": "esriGeometryPolygon",
"supportsDynamicLegends": true
},
{
"id": 82,
"name": "T1000a_kooswtrk",
"parentLayerId": 12,
"defaultVisibility": true,
"subLayerIds": null,
"minScale": 0,
"maxScale": 0,
"type": "Feature Layer",
"geometryType": "esriGeometryPolygon",
"supportsDynamicLegends": true
},
{
"id": 17,
"name": "Riskipiirkonnad",
"parentLayerId": 12,
"defaultVisibility": true,
"subLayerIds": null,
"minScale": 0,
"maxScale": 0,
"type": "Feature Layer",
"geometryType": "esriGeometryPolygon",
"supportsDynamicLegends": true
},
{
"id": 1496,
"name": "Riigikaitsega seotud kitsendused (infokihid)",
"parentLayerId": -1,
"defaultVisibility": true,
"subLayerIds": [
1498,
1499
],
"minScale": 0,
"maxScale": 0,
"type": "Group Layer",
"supportsDynamicLegends": false
},
{
"id": 1498,
"name": "Riigikaitseline ehitis (infokiht)",
"parentLayerId": 1496,
"defaultVisibility": true,
"subLayerIds": null,
"minScale": 0,
"maxScale": 0,
"type": "Feature Layer",
"geometryType": "esriGeometryPolygon",
"supportsDynamicLegends": true
},
{
"id": 1499,
"name": "Riigikaitselise ehitise piiranguvöönd (infokiht)",
"parentLayerId": 1496,
"defaultVisibility": true,
"subLayerIds": null,
"minScale": 0,
"maxScale": 0,
"type": "Feature Layer",
"geometryType": "esriGeometryPolygon",
"supportsDynamicLegends": true
}
],
"tables": [],
"spatialReference": {
"wkid": 4326,
"latestWkid": 4326,
"xyTolerance": 8.983152841195215E-9,
"zTolerance": 0.001,
"mTolerance": 0.001,
"falseX": -400,
"falseY": -400,
"xyUnits": 9.999999999999999E8,
"falseZ": -100000,
"zUnits": 10000,
"falseM": -100000,
"mUnits": 10000
},
"singleFusedMapCache": true,
"tileInfo": {
"rows": 256,
"cols": 256,
"dpi": 96,
"format": "PNG",
"compressionQuality": 0,
"origin": {
"x": -180,
"y": 90
},
"spatialReference": {
"wkid": 4326,
"latestWkid": 4326,
"xyTolerance": 8.983152841195213E-9,
"zTolerance": 0.001,
"mTolerance": 0.001,
"falseX": -399.9999999999999,
"falseY": -399.9999999999999,
"xyUnits": 1.125899906842624E13,
"falseZ": -100000,
"zUnits": 10000,
"falseM": -100000,
"mUnits": 10000
},
"lods": [
{
"level": 0,
"resolution": 0.703125,
"scale": 2.958287637958547E8
},
{
"level": 1,
"resolution": 0.3515625,
"scale": 1.4791438189792734E8
},
{
"level": 2,
"resolution": 0.17578125,
"scale": 7.395719094896367E7
},
{
"level": 3,
"resolution": 0.087890625,
"scale": 3.6978595474481836E7
},
{
"level": 4,
"resolution": 0.0439453125,
"scale": 1.8489297737240918E7
},
{
"level": 5,
"resolution": 0.02197265625,
"scale": 9244648.868620459
},
{
"level": 6,
"resolution": 0.010986328125,
"scale": 4622324.4343102295
},
{
"level": 7,
"resolution": 0.0054931640625,
"scale": 2311162.2171551147
},
{
"level": 8,
"resolution": 0.00274658203125,
"scale": 1155581.1085775574
},
{
"level": 9,
"resolution": 0.001373291015625,
"scale": 577790.5542887787
},
{
"level": 10,
"resolution": 6.866455078125E-4,
"scale": 288895.27714438934
},
{
"level": 11,
"resolution": 3.4332275390625E-4,
"scale": 144447.63857219467
},
{
"level": 12,
"resolution": 1.71661376953125E-4,
"scale": 72223.81928609734
},
{
"level": 13,
"resolution": 8.58306884765625E-5,
"scale": 36111.90964304867
},
{
"level": 14,
"resolution": 4.291534423828125E-5,
"scale": 18055.954821524334
},
{
"level": 15,
"resolution": 2.1457672119140625E-5,
"scale": 9027.977410762167
},
{
"level": 16,
"resolution": 1.0728836059570312E-5,
"scale": 4513.9887053810835
},
{
"level": 17,
"resolution": 5.364418029785156E-6,
"scale": 2256.9943526905417
},
{
"level": 18,
"resolution": 2.682209014892578E-6,
"scale": 1128.4971763452709
},
{
"level": 19,
"resolution": 1.341104507446289E-6,
"scale": 564.2485881726354
},
{
"level": 20,
"resolution": 6.705522537231445E-7,
"scale": 282.1242940863177
},
{
"level": 21,
"resolution": 3.3527612686157227E-7,
"scale": 141.06214704315886
},
{
"level": 22,
"resolution": 1.6763806343078613E-7,
"scale": 70.53107352157943
}
]
},
"storageInfo": {
"storageFormat": "esriMapCacheStorageModeCompactV2",
"packetSize": 128
},
"initialExtent": {
"xmin": 23.471180315358772,
"ymin": 58.91611718697907,
"xmax": 23.613301434404175,
"ymax": 58.967574588048606,
"spatialReference": {
"wkid": 4326,
"latestWkid": 4326,
"xyTolerance": 8.983152841195215E-9,
"zTolerance": 0.001,
"mTolerance": 0.001,
"falseX": -400,
"falseY": -400,
"xyUnits": 9.999999999999999E8,
"falseZ": -100000,
"zUnits": 10000,
"falseM": -100000,
"mUnits": 10000
}
},
"fullExtent": {
"xmin": 23.306229901625667,
"ymin": 58.75023956237373,
"xmax": 23.73956814719993,
"ymax": 58.97753366540195,
"spatialReference": {
"wkid": 4326,
"latestWkid": 4326,
"xyTolerance": 8.983152841195215E-9,
"zTolerance": 0.001,
"mTolerance": 0.001,
"falseX": -400,
"falseY": -400,
"xyUnits": 9.999999999999999E8,
"falseZ": -100000,
"zUnits": 10000,
"falseM": -100000,
"mUnits": 10000
}
},
"datesInUnknownTimezone": false,
"minScale": 2.958287637958547E8,
"maxScale": 564.2485881726354,
"minLOD": 0,
"maxLOD": 19,
"units": "esriDecimalDegrees",
"supportedImageFormatTypes": "PNG32,PNG24,PNG,JPG,DIB,TIFF,EMF,PS,PDF,GIF,SVG,SVGZ,BMP",
"documentInfo": {
"Title": "Väärtuslikud alad ja piirangud WEB",
"Author": "",
"Comments": " Väärtuslikud alad ja piirangud WEB<\/SPAN><\/P><\/DIV>",
"Subject": "Väärtuslikud alad ja piirangud WEB",
"Category": "",
"Version": "2.9.0",
"AntialiasingMode": "Fast",
"TextAntialiasingMode": "Force",
"Keywords": "Väärtuslikud alad ja piirangud MUUDETAV"
},
"capabilities": "Map,Query,Data",
"supportedQueryFormats": "JSON, geoJSON, PBF",
"exportTilesAllowed": false,
"referenceScale": 0.0,
"datumTransformations": [
{
"geoTransforms": [
{
"wkid": 1649,
"latestWkid": 1649,
"transformForward": false,
"name": "Estonia_1997_To_WGS_1984_1"
}
]
},
{
"geoTransforms": [
{
"wkid": 1649,
"latestWkid": 1649,
"transformForward": true,
"name": "Estonia_1997_To_WGS_1984_1"
}
]
}
],
"supportsDatumTransformation": true,
"floorAwareMapProperties": {
"defaultFloorFilterSettings": {"isEnabled": false}
},
"archivingInfo": {"supportsHistoricMoment": false},
"supportsClipping": true,
"supportsSpatialFilter": true,
"supportsTimeRelation": true,
"supportsQueryDataElements": true,
"mapUnits": {"uwkid": 9102},
"maxRecordCount": 2000,
"maxImageHeight": 4096,
"maxImageWidth": 4096,
"supportedExtensions": "",
"serviceItemId": "9ffbc0776ad34f62ae35c7d23f7aa27e"
}